BEGIN:VCALENDAR
VERSION:2.0
PRODID:-//Antike am Königsplatz - ECPv6.15.20//NONSGML v1.0//EN
CALSCALE:GREGORIAN
METHOD:PUBLISH
X-ORIGINAL-URL:https://www.antike-am-koenigsplatz.mwn.de
X-WR-CALDESC:Veranstaltungen für Antike am Königsplatz
REFRESH-INTERVAL;VALUE=DURATION:PT1H
X-Robots-Tag:noindex
X-PUBLISHED-TTL:PT1H
BEGIN:VTIMEZONE
TZID:Europe/Berlin
BEGIN:DAYLIGHT
TZOFFSETFROM:+0100
TZOFFSETTO:+0200
TZNAME:CEST
DTSTART:20110327T010000
END:DAYLIGHT
BEGIN:STANDARD
TZOFFSETFROM:+0200
TZOFFSETTO:+0100
TZNAME:CET
DTSTART:20111030T010000
END:STANDARD
BEGIN:DAYLIGHT
TZOFFSETFROM:+0100
TZOFFSETTO:+0200
TZNAME:CEST
DTSTART:20120325T010000
END:DAYLIGHT
BEGIN:STANDARD
TZOFFSETFROM:+0200
TZOFFSETTO:+0100
TZNAME:CET
DTSTART:20121028T010000
END:STANDARD
BEGIN:DAYLIGHT
TZOFFSETFROM:+0100
TZOFFSETTO:+0200
TZNAME:CEST
DTSTART:20130331T010000
END:DAYLIGHT
BEGIN:STANDARD
TZOFFSETFROM:+0200
TZOFFSETTO:+0100
TZNAME:CET
DTSTART:20131027T010000
END:STANDARD
BEGIN:DAYLIGHT
TZOFFSETFROM:+0100
TZOFFSETTO:+0200
TZNAME:CEST
DTSTART:20140330T010000
END:DAYLIGHT
BEGIN:STANDARD
TZOFFSETFROM:+0200
TZOFFSETTO:+0100
TZNAME:CET
DTSTART:20141026T010000
END:STANDARD
BEGIN:DAYLIGHT
TZOFFSETFROM:+0100
TZOFFSETTO:+0200
TZNAME:CEST
DTSTART:20150329T010000
END:DAYLIGHT
BEGIN:STANDARD
TZOFFSETFROM:+0200
TZOFFSETTO:+0100
TZNAME:CET
DTSTART:20151025T010000
END:STANDARD
END:VTIMEZONE
BEGIN:VEVENT
DTSTART;VALUE=DATE:20120720
DTEND;VALUE=DATE:20140120
DTSTAMP:20260426T044453
CREATED:20200507T153450Z
LAST-MODIFIED:20251023T121338Z
UID:10000019-1342742400-1390175999@www.antike-am-koenigsplatz.mwn.de
SUMMARY:Die Unsterblichen – Götter Griechenlands
DESCRIPTION:Die Ausstellung „Die Unsterblichen – Götter Griechenlands“ präsentiert eine bunte Vielfalt an Götterbildern aus den reichen Münchner Sammlungsbeständen\, vermehrt um Leihgaben aus dem In- und Ausland. \nDie vergoldete Statue der Athena auf den Stufen der Antikensammlungen vermittelt eine Vorstellung vom Aussehen eines antiken Kultbildes. Die Götterschau macht anschaulich\, wie omnipräsent die Unsterblichen im Leben der Menschen waren\, versucht aber auch\, eine verständliche Ordnung in die auf den ersten Blick verwirrende Fülle zu bringen. Sie ermöglicht dem Besucher\, die wichtigsten Götter an ihren charakteristischen Attributen zu erkennen\, ihre jeweiligen Charaktere und Fähigkeiten kennenzulernen. Breiten Raum nimmt das in der Bildkunst immer wieder neu gestaltete Handeln der Götter ein\, ihre Versammlungen\, Liebschaften\, Streitigkeiten und Kämpfe\, aber auch ihr Beistand für die Sterblichen. \nSchließlich wirft die Ausstellung einen Blick in ein griechisches Heiligtum. Sie zeigt\, wie sich der Einzelne der von ihm verehrten Gottheit in Opfer und Gebet näherte\, gibt ein Bild von den Weihgaben\, die dort in großer Zahl standen. Diese reichten von den prächtigen Statuen\, die Städte und mächtige Einzelne stifteten\, bis hin zu den preiswerten Tonvotiven\, mit denen der einfache Pilger den Gott günstig gewogen stimmen oder ihm für erwiesene Wohltat danken wollte – und die wir aus christlichen Wallfahrtskirchen in ganz ähnlicher Form kennen. \nZur Ausstellung fand eine gemeinsame Tagung mit der Katholischen Akademie Bayern statt\, deren Programm ein breites Spektrum an Themen bot. Der Bayerische Rundfunk sendete einen Film über die Veranstaltung. \nEinführung zur Sonderausstellung \n 
URL:https://www.antike-am-koenigsplatz.mwn.de/event/die-unsterblichen-goetter-griechenlands/
LOCATION:Staatliche Antikensammlungen\, Königsplatz 1\, München\, 80333\, Germany
CATEGORIES:Sonderausstellung
ATTACH;FMTTYPE=image/jpeg:https://www.antike-am-koenigsplatz.mwn.de/wp-content/uploads/2020/05/goetter9-115.jpg
END:VEVENT
BEGIN:VEVENT
DTSTART;VALUE=DATE:20120720
DTEND;VALUE=DATE:20140120
DTSTAMP:20260426T044453
CREATED:20200602T173113Z
LAST-MODIFIED:20251023T121359Z
UID:10000039-1342742400-1390175999@www.antike-am-koenigsplatz.mwn.de
SUMMARY:Die Unsterblichen – Götter Griechenlands
DESCRIPTION:Die in den Antikensammlungen und der Glyptothek gezeigte Ausstellung „Die Unsterblichen – Götter Griechenlands“ präsentiert eine bunte Vielfalt an Götterbildern aus den reichen Münchner Sammlungsbeständen\, vermehrt um Leihgaben aus dem In- und Ausland. \nDie vergoldete Statue der Athena auf den Stufen der Antikensammlungen vermittelt eine Vorstellung vom Aussehen eines antiken Kultbildes. Die Götterschau macht anschaulich\, wie omnipräsent die Unsterblichen im Leben der Menschen waren\, versucht aber auch\, eine verständliche Ordnung in die auf den ersten Blick verwirrende Fülle zu bringen. Sie ermöglicht dem Besucher\, die wichtigsten Götter an ihren charakteristischen Attributen zu erkennen\, ihre jeweiligen Charaktere und Fähigkeiten kennenzulernen. Breiten Raum nimmt das in der Bildkunst immer wieder neu gestaltete Handeln der Götter ein\, ihre Versammlungen\, Liebschaften\, Streitigkeiten und Kämpfe\, aber auch ihr Beistand für die Sterblichen. \nSchließlich wirft die Ausstellung einen Blick in ein griechisches Heiligtum. Sie zeigt\, wie sich der Einzelne der von ihm verehrten Gottheit in Opfer und Gebet näherte\, gibt ein Bild von den Weihgaben\, die dort in großer Zahl standen. Diese reichten von den prächtigen Statuen\, die Städte und mächtige Einzelne stifteten\, bis hin zu den preiswerten Tonvotiven\, mit denen der einfache Pilger den Gott günstig gewogen stimmen oder ihm für erwiesene Wohltat danken wollte – und die wir aus christlichen Wallfahrtskirchen in ganz ähnlicher Form kennen. \nZur Ausstellung fand eine gemeinsame Tagung mit der Katholischen Akademie Bayern statt\, deren Programm ein breites Spektrum an Themen bot. Der Bayerische Rundfunk sendete einen Film über die Veranstaltung. \nEinführung zur Sonderausstellung \n 
URL:https://www.antike-am-koenigsplatz.mwn.de/event/die-unsterblichen-goetter-griechenlands-2/
LOCATION:Glyptothek\, Königsplatz 3\, München\, 80333
CATEGORIES:Sonderausstellung
ATTACH;FMTTYPE=image/jpeg:https://www.antike-am-koenigsplatz.mwn.de/wp-content/uploads/2020/06/goetter9.jpg_5ed68b2297a089.69366145-258.jpeg
END:VEVENT
BEGIN:VEVENT
DTSTART;VALUE=DATE:20130307
DTEND;VALUE=DATE:20130506
DTSTAMP:20260426T044453
CREATED:20200507T155937Z
LAST-MODIFIED:20251023T121313Z
UID:10000025-1362614400-1367798399@www.antike-am-koenigsplatz.mwn.de
SUMMARY:Neuer Schmuck für die Götter
DESCRIPTION:Eine Ausstellung der Galerie Handwerk im Rahmen der Sonderausstellung „Die Unsterblichen – Götter Griechenlands“. \nDie Sammlung von antikem und etruskischem Goldschmuck der Staatlichen Antikensammlungen hat Weltruf. Sie verfügt über bedeutende Exponate antiken Schmucks\, so den Goldkranz von Armento aus dem 4. Jahrhundert vor Christus wie auch griechische Schmuckstücke aus derselben Epoche und eine Sammlung mit etwa 800 antiken und neuzeitlichen Gemmen. Es erscheint überaus reizvoll\, zeitgenössischen Schmuck international renommierter Goldschmiede im Kontext dieser außergewöhnlichen Sammlung zu präsentieren. \nZu ihrer ersten Ausstellung in diesem Jahr hat die Galerie Handwerk 16 Goldschmiede und zwei Silberschmiede eingeladen\, deren Werke in unterschiedlichster Weise mit den Ausstellungsstücken der Staatlichen Antikensammlungen in Beziehung stehen. Dabei geht es nicht um eine formale Nähe oder gar Nachahmung der in den Nachbarräumen gezeigten antiken Stücke. Gefragt sind vielmehr unterschiedliche Neuinterpretationen alter Techniken\, Materialien\, Ornamente und Motive sowie eine ideelle und geistige Nähe zur Antike \nAusstellende Künstler: Robert Baines\, AU; Peter Bauhuis\, DE; Manfred Bischoff\, DE; Bettina Dittmann\, DE; Georg Gober\, DE; David Huycke\, BE; Daniel Kruger\, ZA; Christa Lüthje\, DE; Bruno Martinazzi\, IT; Francesco Pavan\, IT; Dorothea Prühl\, DE; Gerd Rothmann\, DE; Jacky Ryan\, IT; Philip Sajet\, NL; Bernhard Schobinger\, CH; Hubertus von Skal\, DE; Tanel Veenre\, EE; Graziano Visintin\, IT.
URL:https://www.antike-am-koenigsplatz.mwn.de/event/neuer-schmuck-fuer-die-goetter/
LOCATION:Staatliche Antikensammlungen\, Königsplatz 1\, München\, 80333\, Germany
CATEGORIES:Sonderausstellung
ATTACH;FMTTYPE=image/jpeg:https://www.antike-am-koenigsplatz.mwn.de/wp-content/uploads/2020/05/neuer_schmuck-f91.jpg
END:VEVENT
END:VCALENDAR