BEGIN:VCALENDAR
VERSION:2.0
PRODID:-//Antike am Königsplatz - ECPv6.15.20//NONSGML v1.0//EN
CALSCALE:GREGORIAN
METHOD:PUBLISH
X-WR-CALNAME:Antike am Königsplatz
X-ORIGINAL-URL:https://www.antike-am-koenigsplatz.mwn.de
X-WR-CALDESC:Veranstaltungen für Antike am Königsplatz
REFRESH-INTERVAL;VALUE=DURATION:PT1H
X-Robots-Tag:noindex
X-PUBLISHED-TTL:PT1H
BEGIN:VTIMEZONE
TZID:Europe/Berlin
BEGIN:DAYLIGHT
TZOFFSETFROM:+0100
TZOFFSETTO:+0200
TZNAME:CEST
DTSTART:20140330T010000
END:DAYLIGHT
BEGIN:STANDARD
TZOFFSETFROM:+0200
TZOFFSETTO:+0100
TZNAME:CET
DTSTART:20141026T010000
END:STANDARD
BEGIN:DAYLIGHT
TZOFFSETFROM:+0100
TZOFFSETTO:+0200
TZNAME:CEST
DTSTART:20150329T010000
END:DAYLIGHT
BEGIN:STANDARD
TZOFFSETFROM:+0200
TZOFFSETTO:+0100
TZNAME:CET
DTSTART:20151025T010000
END:STANDARD
BEGIN:DAYLIGHT
TZOFFSETFROM:+0100
TZOFFSETTO:+0200
TZNAME:CEST
DTSTART:20160327T010000
END:DAYLIGHT
BEGIN:STANDARD
TZOFFSETFROM:+0200
TZOFFSETTO:+0100
TZNAME:CET
DTSTART:20161030T010000
END:STANDARD
BEGIN:DAYLIGHT
TZOFFSETFROM:+0100
TZOFFSETTO:+0200
TZNAME:CEST
DTSTART:20170326T010000
END:DAYLIGHT
BEGIN:STANDARD
TZOFFSETFROM:+0200
TZOFFSETTO:+0100
TZNAME:CET
DTSTART:20171029T010000
END:STANDARD
BEGIN:DAYLIGHT
TZOFFSETFROM:+0100
TZOFFSETTO:+0200
TZNAME:CEST
DTSTART:20180325T010000
END:DAYLIGHT
BEGIN:STANDARD
TZOFFSETFROM:+0200
TZOFFSETTO:+0100
TZNAME:CET
DTSTART:20181028T010000
END:STANDARD
END:VTIMEZONE
BEGIN:VEVENT
DTSTART;VALUE=DATE:20150716
DTEND;VALUE=DATE:20170109
DTSTAMP:20260424T011647
CREATED:20200507T151454Z
LAST-MODIFIED:20251023T120851Z
UID:10000017-1437004800-1483919999@www.antike-am-koenigsplatz.mwn.de
SUMMARY:Die Etrusker – Von Villanova bis Rom
DESCRIPTION:In den Staatlichen Antikensammlungen am Münchner Königsplatz erwachen die Etrusker zu neuem Leben. Herausragende Beispiele etruskischer Kunst werden in einer großen Sonderausstellung präsentiert.\n\n\nDie Faszination\, die die Etrusker noch immer auf uns ausüben\, hat unterschiedliche Wurzeln\, von denen eine in ihrer rätselhaften Herkunft liegt. Die weitgehend unverstandene Sprache eines uns historisch doch gar nicht so fernen Volkes im Herzen Europas trägt zum Geheimnis bei. Außerdem steht der aus den prachtvollen Gräbern und den Schriftquellen bekannte Reichtum der Etrusker in merkwürdigem Kontrast zu ihrem Verschwinden aus der europäischen Geschichte. \nIn der Ausstellung wird die Entwicklung der etruskischen Kultur nicht – wie üblich – als ein zivilisatorischer Aufstieg mit einer kurzen Blüte und einem dann folgenden stetigen Niedergang gezeigt\, sondern als Prozess einer kontinuierlichen Veränderung: Die Etrusker nahmen unter Vermittlung der Griechen bereitwillig Einflüsse aus dem gesamten Mittelmeerraum in die eigene Kultur auf. Ab dem 3. Jahrhundert v. Chr. waren sie Teil der hellenistischen Welt. Gleichzeitig ging die etruskische in der römischen Kultur auf und hinterließ dabei Spuren\, die man bis heute erkennen kann. \nViele der in den Antikensammlungen ausgestellten Objekte sind seit dem 2. Weltkrieg nicht mehr präsentiert worden\, manche werden der Öffentlichkeit zum ersten Mal gezeigt. Unterstützt von einem Mediaguide kann der Besucher in die Welt der Etrusker eintauchen und die Dynamik einer vergangenen\, aber nicht vergessenen Kultur miterleben. \nEinführung zur Sonderausstellung \nBegleitprogramm \nZur Ausstellung erscheint ein Katalog:F. Knauß − J. Gebauer (Hrsg.)\, Die Etrusker. Von Villanova bis Rom (384 S. ca. 740 farbige Abb.)\, Nünnerich-Asmus Verlag; € 29\,90 (im Museumsshop € 25\,-)
URL:https://www.antike-am-koenigsplatz.mwn.de/event/die-etrusker-von-villanova-bis-rom/
LOCATION:Staatliche Antikensammlungen\, Königsplatz 1\, München\, 80333\, Germany
CATEGORIES:Sonderausstellung
ATTACH;FMTTYPE=image/jpeg:https://www.antike-am-koenigsplatz.mwn.de/wp-content/uploads/2020/05/etrusker-c9b.jpg
END:VEVENT
BEGIN:VEVENT
DTSTART;VALUE=DATE:20150916
DTEND;VALUE=DATE:20151214
DTSTAMP:20260424T011647
CREATED:20200507T160934Z
LAST-MODIFIED:20251023T120831Z
UID:10000026-1442361600-1450051199@www.antike-am-koenigsplatz.mwn.de
SUMMARY:Herakles in Neuseeland – Bilder von Marian Maguire
DESCRIPTION:Herakles war ein Held\, dessen außergewöhnliche Mobilität weit über die Räume des Mittelmeers hinaus reichte. Nach antiken Zeugnissen hat er über sechzig Städte gegründet\, von Gibraltar bis zum Ganges. Ähnlich weit gelangten seine zahllosen Darstellungen. Herakles ist eine der gewaltigsten Figuren der antiken Mythologie. Hier hat er\, wie kein anderer antiker Held\, fast alle Grenzen überwunden. Aber erst in der Neuzeit war es möglich\, dass Herakles bis nach Neuseeland kam\, in das Unbekannte und Unerreichbare\, gut achtzehntausend Kilometer von Griechenland entfernt. \nDie neuseeländische Künstlerin Marian Maguire hat es geschafft\, Herakles\, den antiken Weltreisenden\, in ihrer südpazifischen Inselwelt einzubürgern. Der griechische Held ist durch seine Attribute sofort erkennbar: die hölzerne Keule und das Löwenfell. Maguire stellt den neuseeländischen Herakles im altertümlichen Stil attisch schwarz-figuriger Vasen dar. Wie die antiken Vorbilder aus Athen\, so fesseln auch Maguires Bilder die Betrachtenden durch ihre Schönheit und Eigentümlichkeit. \nDie Ausstellung ist auf Anregung des Instituts für Klassische Archäologie zum Königsplatz gekommen\, finanziell unterstützt von der Graduiertenschule der LMU „Distant Worlds“. \nBegleitprogramm \nZur Ausstellung erscheint ein Katalog (dt./engl.)
URL:https://www.antike-am-koenigsplatz.mwn.de/event/herakles-in-neuseeland-bilder-von-marian-maguire/
LOCATION:Staatliche Antikensammlungen\, Königsplatz 1\, München\, 80333\, Germany
CATEGORIES:Sonderausstellung
ATTACH;FMTTYPE=image/jpeg:https://www.antike-am-koenigsplatz.mwn.de/wp-content/uploads/2020/05/plakat-86f.jpg
END:VEVENT
END:VCALENDAR