BEGIN:VCALENDAR
VERSION:2.0
PRODID:-//Antike am Königsplatz - ECPv6.15.20//NONSGML v1.0//EN
CALSCALE:GREGORIAN
METHOD:PUBLISH
X-ORIGINAL-URL:https://www.antike-am-koenigsplatz.mwn.de
X-WR-CALDESC:Veranstaltungen für Antike am Königsplatz
REFRESH-INTERVAL;VALUE=DURATION:PT1H
X-Robots-Tag:noindex
X-PUBLISHED-TTL:PT1H
BEGIN:VTIMEZONE
TZID:Europe/Berlin
BEGIN:DAYLIGHT
TZOFFSETFROM:+0100
TZOFFSETTO:+0200
TZNAME:CEST
DTSTART:20150329T010000
END:DAYLIGHT
BEGIN:STANDARD
TZOFFSETFROM:+0200
TZOFFSETTO:+0100
TZNAME:CET
DTSTART:20151025T010000
END:STANDARD
BEGIN:DAYLIGHT
TZOFFSETFROM:+0100
TZOFFSETTO:+0200
TZNAME:CEST
DTSTART:20160327T010000
END:DAYLIGHT
BEGIN:STANDARD
TZOFFSETFROM:+0200
TZOFFSETTO:+0100
TZNAME:CET
DTSTART:20161030T010000
END:STANDARD
BEGIN:DAYLIGHT
TZOFFSETFROM:+0100
TZOFFSETTO:+0200
TZNAME:CEST
DTSTART:20170326T010000
END:DAYLIGHT
BEGIN:STANDARD
TZOFFSETFROM:+0200
TZOFFSETTO:+0100
TZNAME:CET
DTSTART:20171029T010000
END:STANDARD
BEGIN:DAYLIGHT
TZOFFSETFROM:+0100
TZOFFSETTO:+0200
TZNAME:CEST
DTSTART:20180325T010000
END:DAYLIGHT
BEGIN:STANDARD
TZOFFSETFROM:+0200
TZOFFSETTO:+0100
TZNAME:CET
DTSTART:20181028T010000
END:STANDARD
END:VTIMEZONE
BEGIN:VEVENT
DTSTART;VALUE=DATE:20161208
DTEND;VALUE=DATE:20170313
DTSTAMP:20260423T002608
CREATED:20200506T120252Z
LAST-MODIFIED:20251023T120545Z
UID:10000007-1481155200-1489363199@www.antike-am-koenigsplatz.mwn.de
SUMMARY:Time Codes – Die Macht der Schönheit
DESCRIPTION:Wie schon manch anderer Künstler vor ihm setzt sich Werner Kroener in seinen hier gezeigten Time Codes mit den antiken Meisterwerken der Glyptothek auseinander. Er hat dafür jedoch ein ganz neues\, ein bewusst modernes Medium gewählt\, nämlich die digitale Malerei. \nWerner Kroener betrachtet die Skulpturen der Griechen und Römer losgelöst von ihrem historischen Kontext und ihrer ursprünglichen\, oft sakralen Funktion. Vielmehr behandelt er sie als quasi ikonische Bilder von zeitloser Schönheit\, die noch bis heute als mustergültig erscheinen. Die Vorbildhaftigkeit der antiken Meisterwerke klingt nun auch im Untertitel der Ausstellung Die Macht der Schönheit an. Als ideale Vorbilder begriff sie schon der junge bayerische Kronprinz Ludwig\, der vor zwei Jahrhunderten die großartige Sammlung griechischer und römischer Skulpturen in der von ihm geschaffenen Glyptothek zusammentrug. Daran sollte sich sein bayerisches Volk schulen. \nSeit der Antike haben sich Künstler immer wieder mit als vorbildhaft erachteten Werken früherer Zeiten beschäftigt. Werner Kroeners Ansatz ist unprätentiös. Er misst sich nicht im Wettstreit mit den alten Meistern und trachtet danach\, diese gar noch zu übertreffen. Vielmehr lenkt er das Auge des Betrachters durch seine Linienzeichnung wie durch seine Malerei auf charakteristische Phänomene der griechischen und römischen Statuen\, die es zu erfassen gilt. Er verfremdet die Bilder durch leuchtende Farbigkeit\, die die antiken Marmorskulpturen heute nicht aufweisen und – wenigstens in dieser Form – auch nie besessen haben. Die manipulierende Vereinfachung der plastischen Gestalt und die farbige Fassung erfolgen keineswegs beliebig\, sondern dienen der Illustration und Betonung von Oberflächen\, Konturen und Bildkompositionen. Gleichzeitig möchte Werner Kroener durch die Verwendung eines digitalen Mediums\, das ganz neue künstlerische Möglichkeiten eröffnet\, den Besucher zu eigenem kreativen Schaffen inspirieren. \nMit dem didaktischen Ansatz\, durch seine Bilder den Betrachter zu lehren\, wie Bilder\, in diesem Fall die antiken Skulpturen\, zu lesen sind\, steht der Maler und Kunstpädagoge Werner Kroener also ganz in der Tradition Ludwigs I.\, des großen Philhellenen aus dem Hause Wittelsbach. \nWeitere Informationen zum Ausstellungsprojekt finden Sie → hier. \nZur Ausstellung erscheint ein Katalog:TIME CODES Die Macht der Schönheit\, Kunstverlag Josef Fink; € 19\,95
URL:https://www.antike-am-koenigsplatz.mwn.de/event/time-codes-die-macht-der-schoenheit/
LOCATION:Glyptothek\, Königsplatz 3\, München\, 80333
CATEGORIES:Sonderausstellung
ATTACH;FMTTYPE=image/jpeg:https://www.antike-am-koenigsplatz.mwn.de/wp-content/uploads/2020/05/kroener_plakat_a1-6da.jpg
END:VEVENT
END:VCALENDAR