BEGIN:VCALENDAR
VERSION:2.0
PRODID:-//Antike am Königsplatz - ECPv6.15.20//NONSGML v1.0//EN
CALSCALE:GREGORIAN
METHOD:PUBLISH
X-ORIGINAL-URL:https://www.antike-am-koenigsplatz.mwn.de
X-WR-CALDESC:Veranstaltungen für Antike am Königsplatz
REFRESH-INTERVAL;VALUE=DURATION:PT1H
X-Robots-Tag:noindex
X-PUBLISHED-TTL:PT1H
BEGIN:VTIMEZONE
TZID:Europe/Berlin
BEGIN:DAYLIGHT
TZOFFSETFROM:+0100
TZOFFSETTO:+0200
TZNAME:CEST
DTSTART:20160327T010000
END:DAYLIGHT
BEGIN:STANDARD
TZOFFSETFROM:+0200
TZOFFSETTO:+0100
TZNAME:CET
DTSTART:20161030T010000
END:STANDARD
BEGIN:DAYLIGHT
TZOFFSETFROM:+0100
TZOFFSETTO:+0200
TZNAME:CEST
DTSTART:20170326T010000
END:DAYLIGHT
BEGIN:STANDARD
TZOFFSETFROM:+0200
TZOFFSETTO:+0100
TZNAME:CET
DTSTART:20171029T010000
END:STANDARD
BEGIN:DAYLIGHT
TZOFFSETFROM:+0100
TZOFFSETTO:+0200
TZNAME:CEST
DTSTART:20180325T010000
END:DAYLIGHT
BEGIN:STANDARD
TZOFFSETFROM:+0200
TZOFFSETTO:+0100
TZNAME:CET
DTSTART:20181028T010000
END:STANDARD
END:VTIMEZONE
BEGIN:VEVENT
DTSTART;VALUE=DATE:20170325
DTEND;VALUE=DATE:20171016
DTSTAMP:20260423T002717
CREATED:20200602T181827Z
LAST-MODIFIED:20251027T142049Z
UID:10000042-1490400000-1508111999@www.antike-am-koenigsplatz.mwn.de
SUMMARY:Die Etrusker – Von Villanova bis Rom
DESCRIPTION:Noch immer über die Etrusker eine große Faszination auf uns aus. Das hat unterschiedliche Wurzeln. Eine liegt in ihrer rätselhaften Herkunft. Die weitgehend unverstandene Sprache dieses uns historisch gar nicht so fernen Volkes im Herzen Europas trägt zu dem Geheimnis bei. Außerdem steht der aus den prachtvollen Gräbern und den Schriftquellen bekannte Reichtum der Etrusker in merkwürdigem Kontrast zu ihrem Verschwinden aus der europäischen Geschichte.\n\n\n\nIn der Ausstellung wird die Entwicklung der etruskischen Kultur als Prozess einer kontinuierlichen Veränderung vorgestellt: Die Etrusker nahmen unter Vermittlung der Griechen bereitwillig Einflüsse aus dem gesamten Mittelmeerraum in die eigene Kultur auf. Ab dem 3. Jahrhundert v. Chr. waren sie Teil der hellenistischen Welt. Gleichzeitig ging die etruskische in der römischen Kultur auf und hinterließ dabei Spuren\, die man bis heute erkennen kann. \n\n\n\nPressemitteilung \n\n\n\nWeitere Informationen zur Ausstellung \n\n\n\nZur Sonderausstellung erscheint eine reich bebilderte Broschüre. \n\n\n\nOffene Führungen durch das Pompejanum jeden Sonntag um 15 Uhr. \n\n\n\nBuchung von Sonderführungen für Kinder\, Familien\, Schulklassen: Führungsnetz\, Museumspädagogischer Dienst\, Luitpoldstr. 2\, 63739 Aschaffenburg Tel.: 06021 / 3868866\, E-Mail: fuehrungsnetz@vhs-aschaffenburg.de \n\n\n\nFührungen durch das Pompejanum und die Sonderausstellung für Gruppen (Erwachsene und Kinder) in Deutsch und mehreren Fremdsprachen werden vom Führungsnetz Aschaffenburg angeboten.  \n\n\n\nwww.vhs-aschaffenburg.de/kurse/fuehrungen \n\n\n\nBuchung von Sonderführungen für Erwachsene: Tourist-Information\, Schlossplatz 1\, 63739 Aschaffenburg Tel.: 06021 / 395800\, E-Mail: tourist@info-aschaffenburg.de \n\n\n\nFachvortrag von Dr. Jörg Gebauer (Staatliche Antikensammlungen München): Die Etrusker – Von Villanova bis Rom 25.4.2017\,19 Uhr\, vhs-Haus\, Luitpoldstraße 2\, 63739 Aschaffenburg
URL:https://www.antike-am-koenigsplatz.mwn.de/event/die-etrusker-von-villanova-bis-rom-2/
LOCATION:Pompejanum Aschaffenburg\, Pompejanumstraße 5\, Aschaffenburg\, 63739
CATEGORIES:Sonderausstellung
ATTACH;FMTTYPE=image/jpeg:https://www.antike-am-koenigsplatz.mwn.de/wp-content/uploads/2020/06/etrusker.jpg_5ed697de2b89f1.91683428-f16.jpeg
END:VEVENT
END:VCALENDAR