BEGIN:VCALENDAR
VERSION:2.0
PRODID:-//Antike am Königsplatz - ECPv6.15.20//NONSGML v1.0//EN
CALSCALE:GREGORIAN
METHOD:PUBLISH
X-ORIGINAL-URL:https://www.antike-am-koenigsplatz.mwn.de
X-WR-CALDESC:Veranstaltungen für Antike am Königsplatz
REFRESH-INTERVAL;VALUE=DURATION:PT1H
X-Robots-Tag:noindex
X-PUBLISHED-TTL:PT1H
BEGIN:VTIMEZONE
TZID:Europe/Berlin
BEGIN:DAYLIGHT
TZOFFSETFROM:+0100
TZOFFSETTO:+0200
TZNAME:CEST
DTSTART:20180325T010000
END:DAYLIGHT
BEGIN:STANDARD
TZOFFSETFROM:+0200
TZOFFSETTO:+0100
TZNAME:CET
DTSTART:20181028T010000
END:STANDARD
BEGIN:DAYLIGHT
TZOFFSETFROM:+0100
TZOFFSETTO:+0200
TZNAME:CEST
DTSTART:20190331T010000
END:DAYLIGHT
BEGIN:STANDARD
TZOFFSETFROM:+0200
TZOFFSETTO:+0100
TZNAME:CET
DTSTART:20191027T010000
END:STANDARD
BEGIN:DAYLIGHT
TZOFFSETFROM:+0100
TZOFFSETTO:+0200
TZNAME:CEST
DTSTART:20200329T010000
END:DAYLIGHT
BEGIN:STANDARD
TZOFFSETFROM:+0200
TZOFFSETTO:+0100
TZNAME:CET
DTSTART:20201025T010000
END:STANDARD
END:VTIMEZONE
BEGIN:VEVENT
DTSTART;VALUE=DATE:20190313
DTEND;VALUE=DATE:20190611
DTSTAMP:20260421T065614
CREATED:20200506T091721Z
LAST-MODIFIED:20251023T120152Z
UID:10000006-1552435200-1560211199@www.antike-am-koenigsplatz.mwn.de
SUMMARY:Glanzlichter – Wolfgang Skoluda im Dialog mit der Antike
DESCRIPTION:Der Hamburger Wolfgang Skoluda ist ein herausragender Schmuckkünstler\, aber auch ein leidenschaftlicher Kenner und Sammler antiker Glyptik. So bindet er neben anderen Spolien immer wieder geschnittene Steine der Antike in seine einzigartigen Schmuckkreationen ein. Die Originale aus unterschiedlichen Kulturen werden phantasievoll kombiniert und durch frei modellierte Edelmetallteile spielerisch ergänzt. Seine Arbeiten\, die Wolfgang Skoluda seit 60 Jahren auf Ausstellungen im In- und Ausland präsentiert\, sind heute vielfach besondere Attraktionen in privaten und öffentlichen Sammlungen. \nDie Staatlichen Antikensammlungen geben nun einen Überblick über seine lange Schaffensperiode\, eine harmonische Symbiose von Antike und Gegenwart\, immer geprägt von Lebenslust\, Liebe zur Schönheit und feiner Empfindsamkeit. \nZur Ausstellung erscheint ein Katalog. \nBegleitprogramm
URL:https://www.antike-am-koenigsplatz.mwn.de/event/glanzlichter-wolfgang-skoluda-im-dialog-mit-der-antike/
LOCATION:Staatliche Antikensammlungen\, Königsplatz 1\, München\, 80333\, Germany
CATEGORIES:Sonderausstellung
ATTACH;FMTTYPE=image/jpeg:https://www.antike-am-koenigsplatz.mwn.de/wp-content/uploads/2020/05/glanzlichter_plakat-829.jpg
END:VEVENT
BEGIN:VEVENT
DTSTART;VALUE=DATE:20190323
DTEND;VALUE=DATE:20191028
DTSTAMP:20260421T065614
CREATED:20200525T154335Z
LAST-MODIFIED:20251023T120135Z
UID:10000035-1553299200-1572220799@www.antike-am-koenigsplatz.mwn.de
SUMMARY:Hund\, Katze\, Maus – Tiere in Alltag und Mythos
DESCRIPTION:Schon immer begleiten Tiere den Menschen. Sie wurden von ihm zuerst gejagt und später als Nutztiere domestiziert\, um schließlich im Einzelfall zum Haustier – zum alltäglichen Gefährten zu werden. Die Studioausstellung im Pompejanum beleuchtet das Verhältnis von Mensch und Tier in der Antike an Hand von herausragenden Objekten aus den Beständen der Münchner Antikensammlungen. \nWildtiere stellten für die Menschen im frühen Griechenland durchaus eine Bedrohung dar. In mythischen Geschichten wurden sie deshalb immer wieder als machtvolle Unholde stilisiert\, und es brauchte echte Helden\, um sie zu besiegen. \nFür die meisten Menschen des Altertums waren Tiere allerdings in erster Linie Nutztiere\, deren Produkte wie Wolle\, Milch und Leder sie im Alltag benötigten oder deren Arbeitskraft man\, wie bei den Pflugochsen\, einsetzen konnte. Pferde dagegen wurden selten zur Arbeit verwendet. Sie waren besonders prestigehaltige Statussymbole der Oberschicht. \nTiere bildeten auch ein Bindeglied zwischen Menschen und Göttern\, denn man schlachtete sie im Rahmen von religiösen Festlichkeiten. Bei den Opferhandlungen betete man zu den höheren Mächten und erbat ihren Segen. Das sich anschließende Festmahl war für die meisten Menschen eine der eher seltenen Gelegenheiten\, Fleisch zu essen. \nDie Pressemitteilung \nEine kurze Information zur Ausstellung \nNähere Informationen zu Führungen
URL:https://www.antike-am-koenigsplatz.mwn.de/event/hund-katze-maus-tiere-in-alltag-und-mythos/
LOCATION:Pompejanum Aschaffenburg\, Pompejanumstraße 5\, Aschaffenburg\, 63739
CATEGORIES:Sonderausstellung
ATTACH;FMTTYPE=image/jpeg:https://www.antike-am-koenigsplatz.mwn.de/wp-content/uploads/2020/05/hundkatzemaus_plakat_01_f4e3476ea3-9dc.jpg
END:VEVENT
END:VCALENDAR